BEGIN:VCALENDAR
VERSION:2.0
PRODID:Events Booking
BEGIN:VEVENT
UID:69e65c6e96f26
SUMMARY:Camera Acting - Grundlagen (Erwachsene)
DESCRIPTION:Ihr habt Lust mal Schauspiel auszuprobieren und mit Spass Grund
 lagen des Camera Acting zu erfahren? Dann seid ihr hier genau richtig!
 E
 in ideales Format einen ganzen Tag nach und nach sich dem Schauspiel zu n
 ähern\, innere Hürden abzubauen und mit viel Spass neues im Spiel zu ent
 decken. Ihr braucht keine Erfahrungen mitzubringen\, es reicht Eure Neugie
 rde und Eure Lust zu entdecken. Ganz ohne Druck und Zwang.
LOCATION:Brauweilerstraße 14 50859 Köln
DTSTART:20260411T080000Z
DTEND:20260411T140000Z
DTSTAMP:20260305T073408Z
ORGANIZER;CN=service@actingcenter.de:MAILTO:Acting Center 
GEO:50.944014;6.832453
X-APPLE-STRUCTURED-LOCATION;VALUE=URI;X-ADDRESS=Brauweilerstraße 14 50859 
 Köln;X-APPLE-RADIUS=72;X-TITLE=Acting Center (Alte Jugendstilvilla):50.94
 4014;6.832453
END:VEVENT
END:VCALENDAR