BEGIN:VCALENDAR
VERSION:2.0
PRODID:Events Booking
BEGIN:VEVENT
UID:69e66f4f8b9ac
SUMMARY:\"Yoga für Alle\"          Anmeldung: info@holonayoga.de
DESCRIPTION:
DTSTART:20260525T170000Z
DTEND:20260525T180000Z
DTSTAMP:20260324T122234Z
ORGANIZER;CN=service@actingcenter.de:MAILTO:Acting Center 
END:VEVENT
END:VCALENDAR