BEGIN:VCALENDAR
VERSION:2.0
PRODID:Events Booking
BEGIN:VEVENT
UID:69e66f879fbd9
SUMMARY:\"Yoga für Alle\"          Anmeldung: info@holonayoga.de
DESCRIPTION:
DTSTART:20260515T170000Z
DTEND:20260515T180000Z
DTSTAMP:20260324T121958Z
ORGANIZER;CN=service@actingcenter.de:MAILTO:Acting Center 
END:VEVENT
END:VCALENDAR